Workbook
Name ТАРСНУСЛУГИ: '[1]2010 с измен-ми'!$U$2

Sheet Данные ком.оператора
A1: Составляющие регулируемых цен на электрическую энергию (мощность), поставляемую на розничных рынках
A2: на территориях, объединенных в неценовые зоны оптового рынка, предоставляемые Коммерческим оператором ГП (ЭСО, ЭСК)
A4: Наименование участника | D4: ООО "МагнитЭнерго"
A5: Код участника | D5: MAGNITEN
A6: код(-ы) ГТП | D6: PMGEN482
A7: Расчетный период | D7: июнь 2024 года
A8: Величины в месячном разрезе:
A9: Ценовые параметры:
A10: Плата за иные услуги, оказание которых является неотъемлемой частью процесса поставки электрической энергии потребителям (руб./МВт.ч.) | D10: 4.3020227
A11: Расчетная стоимость услуг инфраструктурных организаций оптового рынка (руб.) | D11: 936.46
A12: Расчетная стоимость услуги по оперативно-диспетчерскому управлению в электроэнергетике в части организации отбора исполнителей и оплаты услуг по обеспечению системной надежности, услуг по обеспечению вывода Единой энергетической системы России из аварийных ситуаций, услуг по формированию технологического резерва мощностей (руб.) | D12: 474.98
A13: Расчетная стоимость услуги Коммерческого оператора по организации торговли на оптовом рынке, связанной с заключением и организацией исполнения сделок по обращению электрической энергии, мощности, иных объектов торговли, обращение которых допускается на оптовом рынке (руб.) | D13: 365.92
A14: Расчетная стоимость комплексной услуги ЦФР по расчету требований и обязательств участников оптового рынка и исполнителей услуг по управлению изменением режима потребления электрической энергии (руб.) | D14: 95.56
A15: Средневзвешенная регулируемая цена на электрическую энергию на оптовом рынке, определенная по результатам расчета стоимости плановых почасовых объемов производства (потребления) электрической энергии и стоимости отклонений фактического производства (потребления) электрической энергии от объемов их планового почасового производства (потребления) на оптовом рынке в отношении расчетного периода (руб./МВт.ч.) | D15: 2135.7081
A16: Средневзвешенная регулируемая цена на мощность на оптовом рынке , определенная в отношении расчетного периода (руб./МВт.) | D16: 568053.35
A17: Дифференцированная по зонам суток расчетного периода средневзвешенная регулируемая цена на электрическую энергию (мощность) на оптовом рынке в зоне суток расчетного периода (руб./МВт.ч.)
A18: - ночная зона | D18: 2013.3171
A19: - полупиковая зона | D19: 3114.9761
A20: - пиковая зона | D20: 3885.0039
A21: - дневная зона | D21: 3475.2966
A22: Приходящаяся на единицу электрической энергии величина разницы предварительных требований и обязательств, рассчитанных на оптовом рынке по результатам расчета стоимости отклонений фактического производства (потребления) электрической энергии от объемов их планового почасового производства (потребления), определенная для расчетного периода (руб./МВт.ч.) | D22: 0
A23: Средневзвешенная регулируемая цена на электрическую энергию на оптовом рынке, определенная по результатам расчета стоимости плановых почасовых объемов производства (потребления) электрической энергии на оптовом рынке в отношении расчетного периода, (руб./МВт.ч.) | D23: 2131.1708
A24: Дифференцированная по зонам суток расчетного периода средневзвешенная регулируемая цена на электрическую энергию (мощность) на оптовом рынке в зоне суток расчетного периода, определенная по результатам расчета стоимости плановых почасовых объемов производства (потребления) электрической энергии на оптовом рынке в отношении зоны суток расчетного периода
A25: - ночная зона | D25: 2009.0863
A26: - полупиковая зона | D26: 2137.9659
A27: - пиковая зона | D27: 2213.5088
A28: - дневная зона | D28: 2173.0789
A29: Объемные параметры:
A30: Фактический объем потребления электрической энергии гарантирующим поставщиком (энергосбытовой, энергоснабжающей организацией) на оптовом рынке за расчетный период, МВт.ч. | D30: 106.678
A31: Объем фактического пикового потребления гарантирующего поставщика (энергосбытовой, энергоснабжающей организации) на оптовом рынке за расчетный период, МВт. | D31: 0.182
A32: Коэффициенты:
A33: Коэффициент оплаты мощности для соответствующей зоны суток расчетного периода, 1/час
A34: - ночная зона | D34: 0
A35: - полупиковая зона | D35: 0.0017115877
A36: - пиковая зона | D36: 0.0029345182
A37: - дневная зона | D37: 0.0022842512
A39: Величины в часовом разрезе:
A40: Дата | B40: Час | C40: Дифференцированная по часам расчетного периода регулируемая цена на электрическую энергию на оптовом рынке, определенная по результатам расчета стоимости плановых почасовых объемов производства (потребления) электрической энергии и стоимости отклонений фактического производства (потребления) электрической энергии от объемов их планового почасового производства (потребления) на оптовом рынке в отношении часа расчетного периода | D40: 0.0028557278 | E40: Дифференцированная по часам расчетного периода регулируемая цена на электрическую энергию на оптовом рынке, определяемая по результатам расчета стоимости отклонений фактического производства (потребления) электрической энергии от объемов их планового почасового производства (потребления) в отношении объема превышения фактического потребления над плановым потреблением в час расчетного периода | F40: Дифференцированная по часам расчетного периода регулируемая цена на электрическую энергию на оптовом рынке, определяемая по результатам расчета стоимости отклонений фактического производства (потребления) электрической энергии от объемов их планового почасового производства (потребления) в отношении объема превышения планового потребления над фактическим потреблением в час расчетного периода
C41: руб./МВт.ч. | D41: 0.0021888589 | E41: руб./МВт.ч. | F41: руб./МВт.ч.
A43: 45444 | B43: 1 | C43: 2143.783 | D43: 2138.0345 | E43: 106.90173 | F43: 106.90173
...

Sheet Конечная РЦ 1ЦК
A1: Конечные регулируемые цены на электрическую энергию (мощность), поставляемую потребителям (покупателям)
B2: ООО "МагнитЭнерго"
A3: (наименование гарантирующего поставщика (энергосбытовой, энергоснабжающей организации)
A5: Расчётный период: | C5: ='Данные ком.оператора'!D7 -> июнь 2024 года
A7: I. Первая ценовая категория
A8: (для объёмов покупки электрической энергии (мощности), учёт которых осуществляется в целом за расчётный период)
A10: 1. Конечная регулируемая цена
C12: Обозначение | D12: Размерность | E12: Уровень напряжения
E13: ВН | F13: СН I | G13: СН II | H13: НН
A14: Конечная регулируемая цена
A15: максимальная мощность до 670 кВт | D15: руб./МВт*ч, без НДС | E15: =G18+G49+G51+G55 -> 4810.0501 | F15: =G18+H49+G51+G55 -> 5554.3801 | G15: =G18+I49+G55+G51 -> 6683.0601 | H15: =G18+J49+G55+G51 -> 7851.7901
A17: № п/п | B17: Составляющие конечных регулируемых цен | E17: Обозначение | F17: Размерность | G17: Значение составляющей
A18: 2. | B18: Средневзвешенная регулируемая цена на электрическую энергию (мощность), используемая для расчета конечных регулируемых цен для первой ценовой категории | F18: руб./МВт*ч, без НДС | G18: =G20+G21*G22 -> 2135.7081
A19: 3. | B19: Составляющие расчета средневзвешенной регулируемой цены на электрическую энергию (мощность), используемой для расчета конечных регулируемых цен для первой ценовой категории:
A20: а) | B20: средневзвешенная регулируемая цена на электрическую энергию на оптовом рынке | F20: руб./МВт*ч, без НДС | G20: ='Данные ком.оператора'!D15 -> 2135.7081
A21: б) | B21: средневзвешенная регулируемая цена на мощность на оптовом рынке | F21: руб./МВт, без НДС | G21: ='Данные ком.оператора'!D16 -> 568053.35
A22: в) | B22: коэффициент оплаты мощности потребителями (покупателями), осуществляющими расчеты по первой ценовой категории | F22: 1/час | G22: 0
A23: г) | B23: объем фактического пикового потребления гарантирующего поставщика на оптовом рынке | F23: МВт | G23: ='Данные ком.оператора'!D31 -> 0.182
A24: д) | B24: сумма величин мощности, оплачиваемой на розничном рынке потребителями (покупателями), осуществляющими расчеты по второй - шестой ценовым категориям, в том числе: | F24: МВт | G24: =SUM(G25:G29) -> 0.182
B25: по второй ценовой категории | F25: МВт | G25: 0
B26: по третьей ценовой категории | F26: МВт | G26: 0
B27: по четвёртой ценовой категории | F27: МВт | G27: ='Данные ком.оператора'!D31 -> 0.182
B28: по пятой ценовой категории | F28: МВт | G28: 0
B29: по шестой ценовой категории | F29: МВт | G29: 0
A30: е) | B30: объем потребления мощности населением и приравненными к нему категориями потребителей | F30: МВт | G30: 0
A31: ж) | B31: фактический объем потребления электрической энергии гарантирующим поставщиком (энергосбытовой, энергоснабжающей организацией) на оптовом рынке | F31: МВт*ч | G31: ='Данные ком.оператора'!D30 -> 106.678
A32: з) | B32: сумма объемов потребления электрической энергии потребителями (покупателями), осуществляющими расчеты по второй - шестой ценовым категориям, в том числе: | F32: МВт*ч | G32: =SUM(G33:G37) -> 106.678
B33: по второй ценовой категории | F33: МВт*ч | G33: 0
B34: по третьей ценовой категории | F34: МВт*ч | G34: 0
B35: по четвёртой ценовой категории | F35: МВт*ч | G35: =G31 -> 106.678
B36: по пятой ценовой категории | F36: МВт*ч | G36: 0
B37: по шестой ценовой категории | F37: МВт*ч | G37: 0
A38: и) | B38: объем потребления электрической энергии населением и приравненными к нему категориями потребителей | F38: МВт*ч | G38: 0
A39: к) | B39: величина изменения средневзвешенной регулируемой цены на электрическую энергию (мощность), связанная с учетом данных за предыдущие расчетные периоды * | F39: руб./МВт*ч, без НДС | G39: 0
A40: л) | B40: сумма объемов мощности за расчетный период (m) производителей электрической энергии на розничном рынке, учтенных в прогнозном балансе на период регулирования, по договорам купли-продажи (поставки) электрической энергии (мощности), заключенным с гарантирующим поставщиком | F40: МВт | G40: 0
A41: м) | B41: сумма объемов электрической энергии за расчетный период (m) производителей электрической энергии на розничном рынке, учтенных в прогнозном балансе на период регулирования, по договорам купли-продажи (поставки) электрической энергии (мощности), заключенным с гарантирующим поставщиком | F41: МВт*ч | G41: 0
B43: Цена на электрическую энергию (мощность), приобретаемую гарантирующим поставщиком на розничном рынке | F43: руб./МВт*ч, без НДС | G43: 0
B44: Изменение стоимости электрической энергии (мощности) в случае отклонения фактического объема производства электрической энергии производителя электрической энергии (мощности) на розничном рынке (r) от договорного объема в час (h) суммарно за расчетный период (m) | F44: руб., без НДС | G44: 0
B45: Средневзвешенная стоимость электрической энергии (мощности), приобретаемой гарантирующим поставщиком на розничных рынках по регулируемым ценам (тарифам), приходящаяся на весь объем электрической энергии, поставляемой гарантирующим поставщиком в соответствии с утвержденным прогнозным балансом, определенная органом исполнительной власти субъектов Российской Федерации в области государственного регулирования тарифов в соответствии с Основами ценообразования в области регулируемых цен (тарифов) в электроэнергетике | F45: руб./МВт*ч, без НДС | G45: 0
G47: Уровень напряжения
...

Sheet Конечная РЦ 3ЦК
A1: Конечные регулируемые цены на электрическую энергию (мощность), поставляемую потребителям (покупателям)
B2: ='Конечная РЦ 1ЦК'!B2 -> ООО "МагнитЭнерго"
A3: (наименование гарантирующего поставщика (энергосбытовой, энергоснабжающей организации)
A5: Расчётный период: | C5: ='Конечная РЦ 1ЦК'!C5 -> июнь 2024 года
A7: III. Третья ценовая категория
A8: (для объемов покупки электрической энергии (мощности), в отношении которых за расчётный период осуществляется почасовой учёт, но не осуществляется почасовое планирование,
A9: а стоимость услуг по передаче электрической энергии определяется по тарифу на услуги по передаче электрической энергии в одноставочном выражении)
A11: Составляющие конечной регулируемой цены:
A13: № п/п | B13: Составляющие конечных регулируемых цен | E13: Обозначение | F13: Размерность | G13: Значение составляющей
A14: 1. | B14: Ставка за электрическую энергию конечной регулируемой цены для третьей ценовой категории, применяемая к фактически поставленному потребителю (покупателю), принадлежащему к n-й группе (подгруппе) потребителей, объему электрической энергии на j-м уровне напряжения в час (h) расчетного периода (m) | F14: руб./МВт*ч, без НДС | G14: почасовая, таблица 3.1
A15: 1.1. | B15: Дифференцированная по часам расчётного периода регулируемая цена на электрическую энергию на оптовом рынке, определённая по результатам расчета стоимости плановых почасовых объемов производства (потребления) электрической энергии и стоимости отклонений фактического производства (потребления) электрической энергии от объемов их планового почасового производства (потребления) на оптовом рынке в отношении часа (h) расчетного периода (m) | F15: руб./МВт*ч, без НДС | G15: почасовая, таблица 3.1
A16: 1.2. | B16: Цена на электрическую энергию (мощность), приобретаемую гарантирующим поставщиком на розничном рынке | F16: руб./МВт*ч, без НДС | G16: 0
B17: Изменение стоимости электрической энергии (мощности) в случае отклонения фактического объема производства электрической энергии производителя электрической энергии (мощности) на розничном рынке (r) от договорного объема в час (h) суммарно за расчетный период (m) | F17: руб., без НДС | G17: 0
B18: Средневзвешенная стоимость электрической энергии (мощности), приобретаемой гарантирующим поставщиком на розничных рынках по регулируемым ценам (тарифам), приходящаяся на весь объем электрической энергии, поставляемой гарантирующим поставщиком в соответствии с утвержденным прогнозным балансом (за исключением объемов электрической энергии производителей электрической энергии, осуществляющих деятельность на территориях, технологически не связанных с Единой энергетической системой России и технологически изолированными территориальными электроэнергетическими системами), определенная исполнительным органом субъектов Российской Федерации в области государственного регулирования тарифов в соответствии с Основами ценообразования в области регулируемых цен (тарифов) в электроэнергетике | F18: руб./МВт*ч, без НДС | G18: 0
G20: Уровень напряжения
G21: ВН | H21: СН I | I21: СН II | J21: НН
A22: 1.3. | B22: Дифференцированный по уровням напряжения одноставочный тариф на услуги по передаче электрической энергии с учетом стоимости нормативных технологических потерь электрической энергии в электрических сетях, установленный исполнительным органом субъекта Российской Федерации в области регулирования тарифов в отношении расчетного периода (m) и j-го уровня напряжения | F22: руб./МВт*ч, без НДС
A24: 1.4. | B24: Плата за иные услуги, оказание которых является неотъемлемой частью процесса поставки электрической энергии потребителям, которая рассчитывается организацией коммерческой инфраструктуры оптового рынка в отношении расчетного периода (m) для каждого гарантирующего поставщика | F24: руб./МВт*ч, без НДС | G24: ='Конечная РЦ 1ЦК'!G51 -> 4.3020227
G26: Величина максимальной мощности
G27: до 670 кВт | H27: от 670 кВт до 10 МВт | I27: не менее 10 МВт
A28: 1.5. | B28: Сбытовая надбавка, учитываемая в стоимости электрической энергии и установленная в отношении расчётного периода (m) и n-й группы (подгруппы) потребителей в соответствии с Основами ценообразования в области регулируемых цен (тарифов) в электроэнергетике | F28: руб./МВт*ч, без НДС | G28: ='Конечная РЦ 1ЦК'!G55 -> 562.86 | H28: ='Конечная РЦ 1ЦК'!H55 -> 562.86 | I28: ='Конечная РЦ 1ЦК'!I55 -> 187.62
G29: Величина максимальной мощности
G30: до 670 кВт | H30: от 670 кВт до 10 МВт | I30: не менее 10 МВт
A31: 2. | B31: Ставка за мощность конечной регулируемой цены для третьей ценовой категории, применяемая к поставляемому за расчётный период (m) потребителю (покупателю), принадлежащему к n-й группе (подгруппе) потребителей, объему мощности | F31: руб./МВт, без НДС | G31: =G32 -> 568053.35 | H31: =G32 -> 568053.35 | I31: =G32 -> 568053.35
A32: 2.1. | B32: Средневзвешенная регулируемая цена на мощность на оптовом рынке за расчётный период (m), определенная коммерческим оператором оптового рынка в отношении гарантирующего поставщика | F32: руб./МВт, без НДС | G32: ='Конечная РЦ 1ЦК'!G21 -> 568053.35
P35: Таблица 3.1
A36: Ставка за электрическую энергию конечной регулируемой цены для третьей ценовой категории, применяемая к фактически поставленному потребителю (покупателю), принадлежащему к n-й группе (подгруппе) потребителей, объему электрической энергии на j-м уровне напряжения в час (h) расчетного периода (m)
P37: руб./МВт*ч, без НДС
D38: Уровень напряжения | P38: Дифференцированная по часам расчётного периода регулируемая цена на электрическую энергию на оптовом рынке, определённая по результатам расчета стоимости плановых почасовых объемов производства (потребления) электрической энергии и стоимости отклонений фактического производства (потребления) электрической энергии от объемов их планового почасового производства (потребления) на оптовом рынке в отношении часа (h) расчетного периода (m)
B39: Дата | C39: Час | D39: ВН | G39: СН I | J39: СН II | M39: НН
D40: Величина максимальной мощности | G40: Величина максимальной мощности | J40: Величина максимальной мощности | M40: Величина максимальной мощности
D41: до 670 кВт | E41: от 670 кВт до 10 МВт | F41: не менее 10 МВт | G41: до 670 кВт | H41: от 670 кВт до 10 МВт | I41: не менее 10 МВт | J41: до 670 кВт | K41: от 670 кВт до 10 МВт | L41: не менее 10 МВт | M41: до 670 кВт | N41: от 670 кВт до 10 МВт | O41: не менее 10 МВт
B42: ='Данные ком.оператора'!A43 -> 45444 | C42: 1 | D42: =P42+$G$22+$G$28+$G$24 -> 2710.945 | E42: =P42+$G$22+$H$28+$G$24 -> 2710.945 | F42: =P42+$G$22+$I$28+$G$24 -> 2335.705 | G42: =P42+$H$22+$G$24+$G$28 -> 2710.945 | H42: =P42+$H$22+$G$24+$H$28 -> 2710.945 | I42: =P42+$H$22+$G$24+$I$28 -> 2335.705 | J42: =P42+$I$22+$G$24+$G$28 -> 2710.945 | K42: =P42+$I$22+$G$24+$H$28 -> 2710.945 | L42: =P42+$I$22+$G$24+$I$28 -> 2335.705 | M42: =P42+$J$22+$G$24+$G$28 -> 2710.945 | N42: =P42+$J$22+$G$24+$H$28 -> 2710.945 | O42: =P42+$J$22+$G$24+$I$28 -> 2335.705 | P42: ='Данные ком.оператора'!C43 -> 2143.783
B43: ='Данные ком.оператора'!A44 -> 45444 | C43: 2 | D43: =P43+$G$22+$G$28+$G$24 -> 2787.3625 | E43: =P43+$G$22+$H$28+$G$24 -> 2787.3625 | F43: =P43+$G$22+$I$28+$G$24 -> 2412.1225 | G43: =P43+$H$22+$G$24+$G$28 -> 2787.3625 | H43: =P43+$H$22+$G$24+$H$28 -> 2787.3625 | I43: =P43+$H$22+$G$24+$I$28 -> 2412.1225 | J43: =P43+$I$22+$G$24+$G$28 -> 2787.3625 | K43: =P43+$I$22+$G$24+$H$28 -> 2787.3625 | L43: =P43+$I$22+$G$24+$I$28 -> 2412.1225 | M43: =P43+$J$22+$G$24+$G$28 -> 2787.3625 | N43: =P43+$J$22+$G$24+$H$28 -> 2787.3625 | O43: =P43+$J$22+$G$24+$I$28 -> 2412.1225 | P43: ='Данные ком.оператора'!C44 -> 2220.2005
B44: ='Данные ком.оператора'!A45 -> 45444 | C44: 3 | D44: =P44+$G$22+$G$28+$G$24 -> 2792.6415 | E44: =P44+$G$22+$H$28+$G$24 -> 2792.6415 | F44: =P44+$G$22+$I$28+$G$24 -> 2417.4015 | G44: =P44+$H$22+$G$24+$G$28 -> 2792.6415 | H44: =P44+$H$22+$G$24+$H$28 -> 2792.6415 | I44: =P44+$H$22+$G$24+$I$28 -> 2417.4015 | J44: =P44+$I$22+$G$24+$G$28 -> 2792.6415 | K44: =P44+$I$22+$G$24+$H$28 -> 2792.6415 | L44: =P44+$I$22+$G$24+$I$28 -> 2417.4015 | M44: =P44+$J$22+$G$24+$G$28 -> 2792.6415 | N44: =P44+$J$22+$G$24+$H$28 -> 2792.6415 | O44: =P44+$J$22+$G$24+$I$28 -> 2417.4015 | P44: ='Данные ком.оператора'!C45 -> 2225.4794
B45: ='Данные ком.оператора'!A46 -> 45444 | C45: 4 | D45: =P45+$G$22+$G$28+$G$24 -> 2790.7675 | E45: =P45+$G$22+$H$28+$G$24 -> 2790.7675 | F45: =P45+$G$22+$I$28+$G$24 -> 2415.5275 | G45: =P45+$H$22+$G$24+$G$28 -> 2790.7675 | H45: =P45+$H$22+$G$24+$H$28 -> 2790.7675 | I45: =P45+$H$22+$G$24+$I$28 -> 2415.5275 | J45: =P45+$I$22+$G$24+$G$28 -> 2790.7675 | K45: =P45+$I$22+$G$24+$H$28 -> 2790.7675 | L45: =P45+$I$22+$G$24+$I$28 -> 2415.5275 | M45: =P45+$J$22+$G$24+$G$28 -> 2790.7675 | N45: =P45+$J$22+$G$24+$H$28 -> 2790.7675 | O45: =P45+$J$22+$G$24+$I$28 -> 2415.5275 | P45: ='Данные ком.оператора'!C46 -> 2223.6055
B46: ='Данные ком.оператора'!A47 -> 45444 | C46: 5 | D46: =P46+$G$22+$G$28+$G$24 -> 2757.5418 | E46: =P46+$G$22+$H$28+$G$24 -> 2757.5418 | F46: =P46+$G$22+$I$28+$G$24 -> 2382.3018 | G46: =P46+$H$22+$G$24+$G$28 -> 2757.5418 | H46: =P46+$H$22+$G$24+$H$28 -> 2757.5418 | I46: =P46+$H$22+$G$24+$I$28 -> 2382.3018 | J46: =P46+$I$22+$G$24+$G$28 -> 2757.5418 | K46: =P46+$I$22+$G$24+$H$28 -> 2757.5418 | L46: =P46+$I$22+$G$24+$I$28 -> 2382.3018 | M46: =P46+$J$22+$G$24+$G$28 -> 2757.5418 | N46: =P46+$J$22+$G$24+$H$28 -> 2757.5418 | O46: =P46+$J$22+$G$24+$I$28 -> 2382.3018 | P46: ='Данные ком.оператора'!C47 -> 2190.3798
B47: ='Данные ком.оператора'!A48 -> 45444 | C47: 6 | D47: =P47+$G$22+$G$28+$G$24 -> 2679.0245 | E47: =P47+$G$22+$H$28+$G$24 -> 2679.0245 | F47: =P47+$G$22+$I$28+$G$24 -> 2303.7845 | G47: =P47+$H$22+$G$24+$G$28 -> 2679.0245 | H47: =P47+$H$22+$G$24+$H$28 -> 2679.0245 | I47: =P47+$H$22+$G$24+$I$28 -> 2303.7845 | J47: =P47+$I$22+$G$24+$G$28 -> 2679.0245 | K47: =P47+$I$22+$G$24+$H$28 -> 2679.0245 | L47: =P47+$I$22+$G$24+$I$28 -> 2303.7845 | M47: =P47+$J$22+$G$24+$G$28 -> 2679.0245 | N47: =P47+$J$22+$G$24+$H$28 -> 2679.0245 | O47: =P47+$J$22+$G$24+$I$28 -> 2303.7845 | P47: ='Данные ком.оператора'!C48 -> 2111.8625
B48: ='Данные ком.оператора'!A49 -> 45444 | C48: 7 | D48: =P48+$G$22+$G$28+$G$24 -> 2682.6222 | E48: =P48+$G$22+$H$28+$G$24 -> 2682.6222 | F48: =P48+$G$22+$I$28+$G$24 -> 2307.3822 | G48: =P48+$H$22+$G$24+$G$28 -> 2682.6222 | H48: =P48+$H$22+$G$24+$H$28 -> 2682.6222 | I48: =P48+$H$22+$G$24+$I$28 -> 2307.3822 | J48: =P48+$I$22+$G$24+$G$28 -> 2682.6222 | K48: =P48+$I$22+$G$24+$H$28 -> 2682.6222 | L48: =P48+$I$22+$G$24+$I$28 -> 2307.3822 | M48: =P48+$J$22+$G$24+$G$28 -> 2682.6222 | N48: =P48+$J$22+$G$24+$H$28 -> 2682.6222 | O48: =P48+$J$22+$G$24+$I$28 -> 2307.3822 | P48: ='Данные ком.оператора'!C49 -> 2115.4602
B49: ='Данные ком.оператора'!A50 -> 45444 | C49: 8 | D49: =P49+$G$22+$G$28+$G$24 -> 2718.4794 | E49: =P49+$G$22+$H$28+$G$24 -> 2718.4794 | F49: =P49+$G$22+$I$28+$G$24 -> 2343.2394 | G49: =P49+$H$22+$G$24+$G$28 -> 2718.4794 | H49: =P49+$H$22+$G$24+$H$28 -> 2718.4794 | I49: =P49+$H$22+$G$24+$I$28 -> 2343.2394 | J49: =P49+$I$22+$G$24+$G$28 -> 2718.4794 | K49: =P49+$I$22+$G$24+$H$28 -> 2718.4794 | L49: =P49+$I$22+$G$24+$I$28 -> 2343.2394 | M49: =P49+$J$22+$G$24+$G$28 -> 2718.4794 | N49: =P49+$J$22+$G$24+$H$28 -> 2718.4794 | O49: =P49+$J$22+$G$24+$I$28 -> 2343.2394 | P49: ='Данные ком.оператора'!C50 -> 2151.3174
...

Sheet Конечная РЦ 4ЦК
A1: Конечные регулируемые цены на электрическую энергию (мощность), поставляемую потребителям (покупателям)
B2: ='Конечная РЦ 1ЦК'!B2 -> ООО "МагнитЭнерго"
A3: (наименование гарантирующего поставщика (энергосбытовой, энергоснабжающей организации)
A5: Расчётный период: | C5: ='Конечная РЦ 1ЦК'!C5 -> июнь 2024 года
A7: IV. Четвёртая ценовая категория
A8: (для объёмов покупки электрической энергии (мощности), в отношении которых за расчётный период осуществляется почасовой учёт, но не осуществляется почасовое планирование,
A9: а стоимость услуг по передаче электрической энергии определяется по тарифу на услуги по передаче электрической энергии в двухставочном выражении)
A11: Составляющие конечной регулируемой цены:
A13: № п/п | B13: Составляющие конечных регулируемых цен | E13: Обозначение | F13: Размерность | G13: Значение составляющей
A14: 1. | B14: Ставка за электрическую энергию конечной регулируемой цены для четвёртой ценовой категории, применяемая к фактически поставленному потребителю (покупателю), принадлежащему к n-й группе (подгруппе) потребителей, объему электрической энергии на j-м уровне напряжения в час (h) расчетного периода (m) | F14: руб./МВт*ч, без НДС | G14: почасовая, таблица 4.1
A15: 1.1. | B15: Дифференцированная по часам расчётного периода регулируемая цена на электрическую энергию на оптовом рынке, определённая по результатам расчёта стоимости плановых почасовых объемов производства (потребления) электрической энергии и стоимости отклонений фактического производства (потребления) электрической энергии от объемов их планового почасового производства (потребления) на оптовом рынке в отношении часа (h) расчетного периода (m) | F15: руб./МВт*ч, без НДС | G15: почасовая, таблица 4.1
A16: 1.2. | B16: Цена на электрическую энергию (мощность), приобретаемую гарантирующим поставщиком на розничном рынке | F16: руб./МВт*ч, без НДС | G16: 0
B17: Изменение стоимости электрической энергии (мощности) в случае отклонения фактического объема производства электрической энергии производителя электрической энергии (мощности) на розничном рынке (r) от договорного объема в час (h) суммарно за расчетный период (m) | F17: руб., без НДС | G17: 0
B18: Средневзвешенная стоимость электрической энергии (мощности), приобретаемой гарантирующим поставщиком на розничных рынках по регулируемым ценам (тарифам), приходящаяся на весь объем электрической энергии, поставляемой гарантирующим поставщиком в соответствии с утвержденным прогнозным балансом (за исключением объемов электрической энергии производителей электрической энергии, осуществляющих деятельность на территориях, технологически не связанных с Единой энергетической системой России и технологически изолированными территориальными электроэнергетическими системами), определенная исполнительным органом субъектов Российской Федерации в области государственного регулирования тарифов в соответствии с Основами ценообразования в области регулируемых цен (тарифов) в электроэнергетике | F18: руб./МВт*ч, без НДС | G18: 0
G20: Уровень напряжения
G21: ВН | H21: СН I | I21: СН II | J21: НН
A22: 1.3. | B22: Дифференцированная по уровням напряжения ставка тарифа на услуги по передаче электрической энергии, используемая для целей определения расходов на оплату нормативных потерь электрической энергии при её передаче по электрическим сетям, установленная исполнительным органом субъекта Российской Федерации в области регулирования тарифов в отношении расчетного периода (m) и j-го уровня напряжения | F22: руб./МВт*ч, без НДС
A24: 1.4. | B24: Плата за иные услуги, оказание которых является неотъемлемой частью процесса поставки электрической энергии потребителям, которая рассчитывается организацией коммерческой инфраструктуры оптового рынка в отношении расчетного периода (m) для каждого гарантирующего поставщика | F24: руб./МВт*ч, без НДС | G24: ='Конечная РЦ 1ЦК'!G51 -> 4.3020227
G26: Величина максимальной мощности
G27: до 670 кВт | H27: от 670 кВт до 10 МВт | I27: не менее 10 МВт
A28: 1.5. | B28: Сбытовая надбавка, учитываемая в стоимости электрической энергии и установленная в отношении расчётного периода (m) и n-й группы (подгруппы) потребителей в соответствии с Основами ценообразования в области регулируемых цен (тарифов) в электроэнергетике | F28: руб./МВт*ч, без НДС | G28: ='Конечная РЦ 1ЦК'!G55 -> 562.86 | H28: ='Конечная РЦ 1ЦК'!H55 -> 562.86 | I28: ='Конечная РЦ 1ЦК'!I55 -> 187.62
G30: Величина максимальной мощности
G31: до 670 кВт | H31: от 670 кВт до 10 МВт | I31: не менее 10 МВт
A32: 2. | B32: Ставка за мощность конечной регулируемой цены для четвёртой ценовой категории, применяемая к поставляемому за расчётный период (m) потребителю (покупателю), принадлежащему к n-й группе (подгруппе) потребителей, объему мощности | F32: руб./МВт, без НДС | G32: =G33 -> 568053.35 | H32: =G33 -> 568053.35 | I32: =G33 -> 568053.35
A33: 2.1. | B33: Средневзвешенная регулируемая цена на мощность на оптовом рынке за расчётный период (m), определенная коммерческим оператором оптового рынка в отношении гарантирующего поставщика | F33: руб./МВт, без НДС | G33: ='Конечная РЦ 1ЦК'!G21 -> 568053.35
G35: Уровень напряжения
G36: ВН | H36: СН I | I36: СН II | J36: НН
A37: 3. | B37: Ставка за мощность конечной регулируемой цены для четвёртой ценовой категории, отражающая удельную величину расходов на содержание электрических сетей и применяемая к величине мощности, оплачиваемой потребителем (покупателем) в части услуг по передаче электрической энергии и определяемой в соответствии с Правилами недискриминационного доступа к услугам по передаче электрической энергии и оказания этих услуг в отношении расчётного периода (m) и j-го уровня напряжения | F37: руб./МВт, без НДС | G37: =G38 -> 1122195.4 | H37: =H38 -> 1293624.4 | I37: =I38 -> 1378144.8 | J37: =J38 -> 1474989.6
A38: 3.1. | B38: Дифференцированная по уровням напряжения ставка тарифа на услуги по передаче электрической энергии, отражающая удельную величину расходов на содержание электрических сетей, определяемая органом исполнительной власти субъекта Российской Федерации в области регулирования тарифов в отношении расчётного периода (m) и j-го уровня напряжения | F38: руб./МВт, без НДС | G38: 1122195.4 | H38: 1293624.4 | I38: 1378144.8 | J38: 1474989.6
P41: Таблица 4.1
A42: Ставка за электрическую энергию конечной регулируемой цены для четвёртой ценовой категории, применяемая к фактически поставленному потребителю (покупателю), принадлежащему к n-й группе (подгруппе) потребителей, объему электрической энергии на j-м уровне напряжения в час (h) расчетного периода (m)
P43: руб./МВт*ч, без НДС
D44: Уровень напряжения | P44: Дифференцированная по часам расчётного периода регулируемая цена на электрическую энергию на оптовом рынке, определённая по результатам расчета стоимости плановых почасовых объемов производства (потребления) электрической энергии и стоимости отклонений фактического производства (потребления) электрической энергии от объемов их планового почасового производства (потребления) на оптовом рынке в отношении часа (h) расчетного периода (m)
B45: Дата | C45: Час | D45: ВН | G45: СН I | J45: СН II | M45: НН
D46: Величина максимальной мощности | G46: Величина максимальной мощности | J46: Величина максимальной мощности | M46: Величина максимальной мощности
D47: до 670 кВт | E47: от 670 кВт до 10 МВт | F47: не менее 10 МВт | G47: до 670 кВт | H47: от 670 кВт до 10 МВт | I47: не менее 10 МВт | J47: до 670 кВт | K47: от 670 кВт до 10 МВт | L47: не менее 10 МВт | M47: до 670 кВт | N47: от 670 кВт до 10 МВт | O47: не менее 10 МВт
B48: ='Данные ком.оператора'!A43 -> 45444 | C48: 1 | D48: =P48+$G$22+$G$24+$G$28 -> 2710.945 | E48: =P48+$G$22+$H$28+$G$24 -> 2710.945 | F48: =P48+$G$22+$I$28+$G$24 -> 2335.705 | G48: =P48+$H$22+$G$24+$G$28 -> 2710.945 | H48: =P48+$H$22+$G$24+$H$28 -> 2710.945 | I48: =P48+$H$22+$G$24+$I$28 -> 2335.705 | J48: =P48+$I$22+$G$24+$G$28 -> 2710.945 | K48: =P48+$I$22+$G$24+$H$28 -> 2710.945 | L48: =P48+$I$22+$G$24+$I$28 -> 2335.705 | M48: =P48+$J$22+$G$24+$G$28 -> 2710.945 | N48: =P48+$J$22+$G$24+$H$28 -> 2710.945 | O48: =P48+$J$22+$G$24+$I$28 -> 2335.705 | P48: ='Данные ком.оператора'!C43 -> 2143.783
B49: ='Данные ком.оператора'!A44 -> 45444 | C49: 2 | D49: =P49+$G$22+$G$24+$G$28 -> 2787.3625 | E49: =P49+$G$22+$H$28+$G$24 -> 2787.3625 | F49: =P49+$G$22+$I$28+$G$24 -> 2412.1225 | G49: =P49+$H$22+$G$24+$G$28 -> 2787.3625 | H49: =P49+$H$22+$G$24+$H$28 -> 2787.3625 | I49: =P49+$H$22+$G$24+$I$28 -> 2412.1225 | J49: =P49+$I$22+$G$24+$G$28 -> 2787.3625 | K49: =P49+$I$22+$G$24+$H$28 -> 2787.3625 | L49: =P49+$I$22+$G$24+$I$28 -> 2412.1225 | M49: =P49+$J$22+$G$24+$G$28 -> 2787.3625 | N49: =P49+$J$22+$G$24+$H$28 -> 2787.3625 | O49: =P49+$J$22+$G$24+$I$28 -> 2412.1225 | P49: ='Данные ком.оператора'!C44 -> 2220.2005
B50: ='Данные ком.оператора'!A45 -> 45444 | C50: 3 | D50: =P50+$G$22+$G$24+$G$28 -> 2792.6415 | E50: =P50+$G$22+$H$28+$G$24 -> 2792.6415 | F50: =P50+$G$22+$I$28+$G$24 -> 2417.4015 | G50: =P50+$H$22+$G$24+$G$28 -> 2792.6415 | H50: =P50+$H$22+$G$24+$H$28 -> 2792.6415 | I50: =P50+$H$22+$G$24+$I$28 -> 2417.4015 | J50: =P50+$I$22+$G$24+$G$28 -> 2792.6415 | K50: =P50+$I$22+$G$24+$H$28 -> 2792.6415 | L50: =P50+$I$22+$G$24+$I$28 -> 2417.4015 | M50: =P50+$J$22+$G$24+$G$28 -> 2792.6415 | N50: =P50+$J$22+$G$24+$H$28 -> 2792.6415 | O50: =P50+$J$22+$G$24+$I$28 -> 2417.4015 | P50: ='Данные ком.оператора'!C45 -> 2225.4794
B51: ='Данные ком.оператора'!A46 -> 45444 | C51: 4 | D51: =P51+$G$22+$G$24+$G$28 -> 2790.7675 | E51: =P51+$G$22+$H$28+$G$24 -> 2790.7675 | F51: =P51+$G$22+$I$28+$G$24 -> 2415.5275 | G51: =P51+$H$22+$G$24+$G$28 -> 2790.7675 | H51: =P51+$H$22+$G$24+$H$28 -> 2790.7675 | I51: =P51+$H$22+$G$24+$I$28 -> 2415.5275 | J51: =P51+$I$22+$G$24+$G$28 -> 2790.7675 | K51: =P51+$I$22+$G$24+$H$28 -> 2790.7675 | L51: =P51+$I$22+$G$24+$I$28 -> 2415.5275 | M51: =P51+$J$22+$G$24+$G$28 -> 2790.7675 | N51: =P51+$J$22+$G$24+$H$28 -> 2790.7675 | O51: =P51+$J$22+$G$24+$I$28 -> 2415.5275 | P51: ='Данные ком.оператора'!C46 -> 2223.6055
...
